BEGIN:VCALENDAR
VERSION:2.0
PRODID:-//eventon.com NONSGML v1.0//EN
CALSCALE:GREGORIAN
METHOD:PUBLISH
BEGIN:VEVENT
UID:69e73e3168945
DTSTAMP:20260421T090657Z
DTSTART:20240529T170000Z
DTEND:20240529T215000Z
LOCATION:Chillida Leku
SUMMARY:CONCIERTO Dúo Altibajos
DESCRIPTION:Dúo Altibajos I CONCIERTO ALUMNADO MÁSTER &nbsp; Contrabajo: 
 Camilo Andrés Alvarez Silva Contrabajo:  Adriá Recatalá Mormeneo &nbsp;
  Dúo Altibajos surge en octubre del año 2023 como una propuesta artístic
 a en el Centro Superior de Estudios Musicales  del País Vasco &#8211; Mus
 ikene. Entre sus integrantes se encuentran el español Adrià Recatalà[..]
 \nhttps://musikene.eus/events/concierto-alumnado-master-5/?lang=fr
URL:https://musikene.eus/events/concierto-alumnado-master-5/?lang=fr
END:VEVENT
END:VCALENDAR