BEGIN:VCALENDAR
VERSION:2.0
PRODID:-//eventon.com NONSGML v1.0//EN
CALSCALE:GREGORIAN
METHOD:PUBLISH
BEGIN:VEVENT
UID:69e6d7fb364e0
DTSTAMP:20260421T015051Z
DTSTART:20240503T123000Z
DTEND:20240503T220000Z
LOCATION:Musikene
SUMMARY:MASTERCLASS VIOLÍN
DESCRIPTION:Sergey Ostrovsky\,  profesor 3 de mayo: 14:30-16:30/17:00-19:00
  4 de mayo: 10:00-13:00/14:00-17:00 Exclusivo para el alumnado de Musikene 
 &nbsp;\nhttps://musikene.eus/events/masterclass-violin-8/?lang=fr
URL:https://musikene.eus/events/masterclass-violin-8/?lang=fr
END:VEVENT
END:VCALENDAR