BEGIN:VCALENDAR
VERSION:2.0
PRODID:-//eventon.com NONSGML v1.0//EN
CALSCALE:GREGORIAN
METHOD:PUBLISH
BEGIN:VEVENT
UID:69eaf3f8c95ba
DTSTAMP:20260424T043920Z
DTSTART:20231215T183000Z
DTEND:20231215T225000Z
LOCATION:DONOSTIA. IESU eliza
SUMMARY:AUDICIÓN ÓRGANO
DESCRIPTION:Alumnos de Esteban Landart &nbsp; &nbsp; &nbsp;\nhttps://musike
 ne.eus/events/audicion-organo-2/?lang=fr
URL:https://musikene.eus/events/audicion-organo-2/?lang=fr
END:VEVENT
END:VCALENDAR