BEGIN:VCALENDAR
VERSION:2.0
PRODID:-//eventon.com NONSGML v1.0//EN
CALSCALE:GREGORIAN
METHOD:PUBLISH
BEGIN:VEVENT
UID:69ebb77cd71b1
DTSTAMP:20260424T183332Z
DTSTART:20240125T093000Z
DTEND:20240125T225000Z
LOCATION:Musikene
SUMMARY:AUDICIÓN VIOLÍN
DESCRIPTION:Alumnado de los profesores Aitzol Iturriagagoitia e Irini Gaita
 ni\nhttps://musikene.eus/events/biolina-entzunaldia-21/?lang=en
URL:https://musikene.eus/events/biolina-entzunaldia-21/?lang=en
END:VEVENT
END:VCALENDAR