BEGIN:VCALENDAR
VERSION:2.0
PRODID:-//eventon.com NONSGML v1.0//EN
CALSCALE:GREGORIAN
METHOD:PUBLISH
BEGIN:VEVENT
UID:69ecbf2c6c326
DTSTAMP:20260425T131836Z
DTSTART:20231116T090000Z
DTEND:20231116T225000Z
LOCATION:Musikene
SUMMARY:MASTERCLASS TROMBÓN
DESCRIPTION:Christophe Sánchez\,  profesor Exclusivo alumnado Musikene\nht
 tps://musikene.eus/events/masterclass-trombon-3/?lang=en
URL:https://musikene.eus/events/masterclass-trombon-3/?lang=en
END:VEVENT
END:VCALENDAR