BEGIN:VCALENDAR
VERSION:2.0
PRODID:-//eventon.com NONSGML v1.0//EN
CALSCALE:GREGORIAN
METHOD:PUBLISH
BEGIN:VEVENT
UID:69ed1ccfef2c0
DTSTAMP:20260425T195807Z
DTSTART:20231106T083000Z
DTEND:20231106T225000Z
LOCATION:Musikene
SUMMARY:MASTERCLASS OBOE
DESCRIPTION:Alejandro González Álvarez\,  profesor Exclusivo alumnado de 
 Musikene &nbsp;\nhttps://musikene.eus/events/masterclass-oboe-6/?lang=fr
URL:https://musikene.eus/events/masterclass-oboe-6/?lang=fr
END:VEVENT
END:VCALENDAR