BEGIN:VCALENDAR
VERSION:2.0
PRODID:-//eventon.com NONSGML v1.0//EN
CALSCALE:GREGORIAN
METHOD:PUBLISH
BEGIN:VEVENT
UID:69e6bada5280e
DTSTAMP:20260420T234634Z
DTSTART:20240205T090000Z
DTEND:20240205T130000Z
LOCATION:Musikene
SUMMARY:MASTERCLASS CANTO
DESCRIPTION:Profesor:  CHRISTOPHER ROBERTSON\,  barítono\nhttps://musiken
 e.eus/events/masterclass-canto-8/
URL:https://musikene.eus/events/masterclass-canto-8/
END:VEVENT
END:VCALENDAR