BEGIN:VCALENDAR
VERSION:2.0
PRODID:-//eventon.com NONSGML v1.0//EN
CALSCALE:GREGORIAN
METHOD:PUBLISH
BEGIN:VEVENT
UID:69ea9f0b7cbb8
DTSTAMP:20260423T223659Z
DTSTART:20240130T184500Z
DTEND:20240130T225000Z
LOCATION:Musikene
SUMMARY:AUDICIÓN PIANO
DESCRIPTION:Alumnado del profesor Miguel Ituarte\nhttps://musikene.eus/even
 ts/piano-entzunaldia-12/
URL:https://musikene.eus/events/piano-entzunaldia-12/
END:VEVENT
END:VCALENDAR