BEGIN:VCALENDAR
VERSION:2.0
PRODID:-//eventon.com NONSGML v1.0//EN
CALSCALE:GREGORIAN
METHOD:PUBLISH
BEGIN:VEVENT
UID:69e81865a2880
DTSTAMP:20260422T003757Z
DTSTART:20231211T184500Z
DTEND:20231211T225000Z
LOCATION:Musikene
SUMMARY:AUDICIÓN PIANO
DESCRIPTION:Alumnado del profesor Miguel Ituarte\nhttps://musikene.eus/even
 ts/piano-entzunaldia-10/?lang=fr
URL:https://musikene.eus/events/piano-entzunaldia-10/?lang=fr
END:VEVENT
END:VCALENDAR