BEGIN:VCALENDAR
VERSION:2.0
PRODID:-//eventon.com NONSGML v1.0//EN
CALSCALE:GREGORIAN
METHOD:PUBLISH
BEGIN:VEVENT
UID:69e553df6d08d
DTSTAMP:20260419T221455Z
DTSTART:20240325T110000Z
DTEND:20240325T225000Z
LOCATION:Musikene
SUMMARY:AUDICIÓN CONTRABAJO
DESCRIPTION:Alumnado de los profesores Pierre De Maistre y Arkaitz Mendoza\
 nhttps://musikene.eus/events/audicion-contrabajo-24/
URL:https://musikene.eus/events/audicion-contrabajo-24/
END:VEVENT
END:VCALENDAR