BEGIN:VCALENDAR
VERSION:2.0
PRODID:-//eventon.com NONSGML v1.0//EN
CALSCALE:GREGORIAN
METHOD:PUBLISH
BEGIN:VEVENT
UID:69ec9ca917cc0
DTSTAMP:20260425T105121Z
DTSTART:20240321T173000Z
DTEND:20240321T225000Z
LOCATION:Musikene
SUMMARY:AUDICIÓN CLARINETE
DESCRIPTION:Alumnado de los profesores José Luis Estellés y Amaia Cipitri
 a\nhttps://musikene.eus/events/audicion-clarinete-22/
URL:https://musikene.eus/events/audicion-clarinete-22/
END:VEVENT
END:VCALENDAR