BEGIN:VCALENDAR
VERSION:2.0
PRODID:-//eventon.com NONSGML v1.0//EN
CALSCALE:GREGORIAN
METHOD:PUBLISH
BEGIN:VEVENT
UID:69eb85556a632
DTSTAMP:20260424T145933Z
DTSTART:20240527T143000Z
DTEND:20240527T215000Z
LOCATION:Musikene
SUMMARY:AUDICIÓN TXISTU
DESCRIPTION:Alumnado del profesor Aitor Amilibia\nhttps://musikene.eus/even
 ts/audicion-txistu-18/?lang=en
URL:https://musikene.eus/events/audicion-txistu-18/?lang=en
END:VEVENT
END:VCALENDAR