BEGIN:VCALENDAR
VERSION:2.0
PRODID:-//eventon.com NONSGML v1.0//EN
CALSCALE:GREGORIAN
METHOD:PUBLISH
BEGIN:VEVENT
UID:69ecde99c0bf4
DTSTAMP:20260425T153241Z
DTSTART:20231024T170000Z
DTEND:20231024T215000Z
LOCATION:Musikene
SUMMARY:KONTZERTUA ENSEMBLE SINKRO
DESCRIPTION:Alfonso García de la Torre konpositorearen omenez &nbsp; MUSIK
 AGILEAK MUSIKA GARAIKIDEAREN ZIRKUITUA &nbsp; &nbsp; &nbsp;\nhttps://musike
 ne.eus/events/concierto-ensemble-sinkro/?lang=eu
URL:https://musikene.eus/events/concierto-ensemble-sinkro/?lang=eu
END:VEVENT
END:VCALENDAR