BEGIN:VCALENDAR
VERSION:2.0
PRODID:-//eventon.com NONSGML v1.0//EN
CALSCALE:GREGORIAN
METHOD:PUBLISH
BEGIN:VEVENT
UID:69ecf5b6cae72
DTSTAMP:20260425T171118Z
DTSTART:20231024T170000Z
DTEND:20231024T215000Z
LOCATION:Musikene
SUMMARY:CONCIERTO ENSEMBLE SINKRO
DESCRIPTION:Concierto en homenaje al compositor Alfonso García de la Torre
 . &nbsp; MUSIKAGILEAK CIRCUITO DE MÚSICA CONTEMPORÁNEA En colaboración c
 on Musikene &nbsp; &nbsp;\nhttps://musikene.eus/events/concierto-ensemble-s
 inkro/
URL:https://musikene.eus/events/concierto-ensemble-sinkro/
END:VEVENT
END:VCALENDAR