BEGIN:VCALENDAR
VERSION:2.0
PRODID:-//eventon.com NONSGML v1.0//EN
CALSCALE:GREGORIAN
METHOD:PUBLISH
BEGIN:VEVENT
UID:69ea689e86156
DTSTAMP:20260423T184446Z
DTSTART:20240315T090000Z
DTEND:20240315T230000Z
LOCATION:Musikene
SUMMARY:MASTERCLASS CONTRABAJO
DESCRIPTION:Burak Marlali\,  profesor\nhttps://musikene.eus/events/mastercl
 ass-contrabajo-7/
URL:https://musikene.eus/events/masterclass-contrabajo-7/
END:VEVENT
END:VCALENDAR