BEGIN:VCALENDAR
VERSION:2.0
PRODID:-//eventon.com NONSGML v1.0//EN
CALSCALE:GREGORIAN
METHOD:PUBLISH
BEGIN:VEVENT
UID:69ea44940bf88
DTSTAMP:20260423T161100Z
DTSTART:20231021T170000Z
DTEND:20231021T215000Z
LOCATION:Musikene
SUMMARY:CONCIERTO BANDA SINFÓNICA DE MUSIKENE
DESCRIPTION:Director: MIQUEL RODRIGO Pablo Sanz\,  marimba &nbsp; A. Comita
 s: Homenaje a Dimitri Shostakovich K. Abe: Prism Rapsody para marimba J. Ba
 rnes: Sinfonía n.3 «Trágica» Op.89 &nbsp; PROGRAMA COMPLETO AQUÍ\nhttp
 s://musikene.eus/events/concierto-orquesta-sinfonica-de-musikene-9/
URL:https://musikene.eus/events/concierto-orquesta-sinfonica-de-musikene-9/
END:VEVENT
END:VCALENDAR