BEGIN:VCALENDAR
VERSION:2.0
PRODID:-//eventon.com NONSGML v1.0//EN
CALSCALE:GREGORIAN
METHOD:PUBLISH
BEGIN:VEVENT
UID:69ea03a8480d1
DTSTAMP:20260423T113400Z
DTSTART:20230812T203000Z
DTEND:20230811T220000Z
LOCATION:Munilla - La Rioja
SUMMARY:CONCIERTO CALIMA QUINTET
DESCRIPTION:CALIMA QUINTET Imanol Suberviola\,  trompeta Miguel Velasco\,  
 saxo Antonio López\,  guitarra Juan Francisco González\,  contrabajo Davi
 d Antúnez\,  batería &nbsp; Festival de Jazz de Munilla www.munijazz.es &
 nbsp; &nbsp; &nbsp;\nhttps://musikene.eus/events/concierto-calima-quintet/
URL:https://musikene.eus/events/concierto-calima-quintet/
END:VEVENT
END:VCALENDAR