BEGIN:VCALENDAR
VERSION:2.0
PRODID:-//eventon.com NONSGML v1.0//EN
CALSCALE:GREGORIAN
METHOD:PUBLISH
BEGIN:VEVENT
UID:69e98f6a9af8e
DTSTAMP:20260423T031802Z
DTSTART:20230621T100000Z
DTEND:20230621T215000Z
LOCATION:Musikene
SUMMARY:KLARINETEA MASTER AMAIERAKO KONTZERTU-HITZALDIA
DESCRIPTION:Leticia del Monte\,  Teresa Josefa Castañón &#8211; Klarinete
 a: Interpretazio Masterreko ikasleak\nhttps://musikene.eus/events/concierto
 -conferencia-fin-de-master-clarinete/?lang=eu
URL:https://musikene.eus/events/concierto-conferencia-fin-de-master-clarinete/?lang=eu
END:VEVENT
END:VCALENDAR