BEGIN:VCALENDAR
VERSION:2.0
PRODID:-//eventon.com NONSGML v1.0//EN
CALSCALE:GREGORIAN
METHOD:PUBLISH
BEGIN:VEVENT
UID:69e9ada196b4a
DTSTAMP:20260423T052657Z
DTSTART:20230621T100000Z
DTEND:20230621T215000Z
LOCATION:Musikene
SUMMARY:CONCIERTO-CONFERENCIA FIN DE MÁSTER CLARINETE
DESCRIPTION:Leticia del Monte\,  Teresa Josefa Castañón &#8211; alumnas d
 el Máster en Interpretación: Clarinete\nhttps://musikene.eus/events/conci
 erto-conferencia-fin-de-master-clarinete/
URL:https://musikene.eus/events/concierto-conferencia-fin-de-master-clarinete/
END:VEVENT
END:VCALENDAR