BEGIN:VCALENDAR
VERSION:2.0
PRODID:-//eventon.com NONSGML v1.0//EN
CALSCALE:GREGORIAN
METHOD:PUBLISH
BEGIN:VEVENT
UID:69e6b32142889
DTSTAMP:20260420T231337Z
DTSTART:20230614T170000Z
DTEND:20230614T215000Z
LOCATION:Musikene
SUMMARY:CONCIERTO RECITAL FIN DE CARRERA JAZZ-BATERÍA
DESCRIPTION:Alumnado del profesor Jo Krause\nhttps://musikene.eus/events/co
 ncierto-recital-fin-de-carrera-jazz-bateria-2/?lang=en
URL:https://musikene.eus/events/concierto-recital-fin-de-carrera-jazz-bateria-2/?lang=en
END:VEVENT
END:VCALENDAR