BEGIN:VCALENDAR
VERSION:2.0
PRODID:-//eventon.com NONSGML v1.0//EN
CALSCALE:GREGORIAN
METHOD:PUBLISH
BEGIN:VEVENT
UID:69ecb936b7360
DTSTAMP:20260425T125310Z
DTSTART:20230614T093000Z
DTEND:20230614T215000Z
LOCATION:Musikene
SUMMARY:CONCIERTO RECITAL FIN DE CARRERA JAZZ-TROMPETA
DESCRIPTION:Alumnado del profesor Chris Kase\nhttps://musikene.eus/events/c
 oncierto-recital-fin-de-carrera-jazz-trompeta-2/?lang=fr
URL:https://musikene.eus/events/concierto-recital-fin-de-carrera-jazz-trompeta-2/?lang=fr
END:VEVENT
END:VCALENDAR