BEGIN:VCALENDAR
VERSION:2.0
PRODID:-//eventon.com NONSGML v1.0//EN
CALSCALE:GREGORIAN
METHOD:PUBLISH
BEGIN:VEVENT
UID:69e4d77849df5
DTSTAMP:20260419T132408Z
DTSTART:20230523T160000Z
DTEND:20230523T215000Z
LOCATION:Musikene
SUMMARY:AUDICIÓN FLAUTA
DESCRIPTION:Alumnado de los profesores Álvaro Octavio y Miguel Ángel Angu
 lo\nhttps://musikene.eus/events/audicion-flauta-41/
URL:https://musikene.eus/events/audicion-flauta-41/
END:VEVENT
END:VCALENDAR