BEGIN:VCALENDAR
VERSION:2.0
PRODID:-//eventon.com NONSGML v1.0//EN
CALSCALE:GREGORIAN
METHOD:PUBLISH
BEGIN:VEVENT
UID:69ed05759bc8c
DTSTAMP:20260425T181829Z
DTSTART:20230520T170000Z
DTEND:20230520T215000Z
LOCATION:Musikene
SUMMARY:AUDICIÓN INTERPRETACIÓN DRAMÁTICA II
DESCRIPTION:NI HABLAR\,  CARIÑO. Comedia del autor J. Luis Alonso de Santo
 s Alumnado del profesor Agustín Arrazola\nhttps://musikene.eus/events/audi
 cion-interpretacion-dramatica-ii/?lang=fr
URL:https://musikene.eus/events/audicion-interpretacion-dramatica-ii/?lang=fr
END:VEVENT
END:VCALENDAR