BEGIN:VCALENDAR
VERSION:2.0
PRODID:-//eventon.com NONSGML v1.0//EN
CALSCALE:GREGORIAN
METHOD:PUBLISH
BEGIN:VEVENT
UID:69ed5c3528ef7
DTSTAMP:20260426T002837Z
DTSTART:20230524T133000Z
DTEND:20230524T215000Z
LOCATION:Musikene
SUMMARY:AUDICIÓN PIANO Y PIANO COMPLEMENTARIO
DESCRIPTION:Alumnado de la profesora Ana García Urcola\nhttps://musikene.e
 us/events/audicion-piano-y-piano-complementario/
URL:https://musikene.eus/events/audicion-piano-y-piano-complementario/
END:VEVENT
END:VCALENDAR