BEGIN:VCALENDAR
VERSION:2.0
PRODID:-//eventon.com NONSGML v1.0//EN
CALSCALE:GREGORIAN
METHOD:PUBLISH
BEGIN:VEVENT
UID:69e773b03d5c7
DTSTAMP:20260421T125512Z
DTSTART:20230506T070000Z
DTEND:20230506T215000Z
LOCATION:Musikene
SUMMARY:MASTERCLASS SAXOFÓN
DESCRIPTION:Ensemble Squillante \nhttps://musikene.eus/events/masterclass-
 saxofon-5/?lang=en
URL:https://musikene.eus/events/masterclass-saxofon-5/?lang=en
END:VEVENT
END:VCALENDAR