BEGIN:VCALENDAR
VERSION:2.0
PRODID:-//eventon.com NONSGML v1.0//EN
CALSCALE:GREGORIAN
METHOD:PUBLISH
BEGIN:VEVENT
UID:69e9e128ea280
DTSTAMP:20260423T090648Z
DTSTART:20230512T173000Z
DTEND:20230512T215000Z
LOCATION:ARRASATE. Juan Arzamendi musika etxea
SUMMARY:KONTZERTUA CADENZA QUARTET
DESCRIPTION:Saxofoiak: Diego Levices\,  María Ortiz\,  Claudia Carballo et
 a Jorge Esteban &nbsp;\nhttps://musikene.eus/events/concierto-cadenza-quart
 et-6/?lang=eu
URL:https://musikene.eus/events/concierto-cadenza-quartet-6/?lang=eu
END:VEVENT
END:VCALENDAR