BEGIN:VCALENDAR
VERSION:2.0
PRODID:-//eventon.com NONSGML v1.0//EN
CALSCALE:GREGORIAN
METHOD:PUBLISH
BEGIN:VEVENT
UID:69e9fe1b7e155
DTSTAMP:20260423T111019Z
DTSTART:20230512T173000Z
DTEND:20230512T215000Z
LOCATION:ARRASATE. Juan Arzamendi musika etxea
SUMMARY:CONCIERTO CADENZA QUARTET
DESCRIPTION:Saxofones: Diego Levices\,  María Ortiz\,  Claudia Carballo y 
 Jorge Esteban &nbsp; &nbsp;\nhttps://musikene.eus/events/concierto-cadenza-
 quartet-6/
URL:https://musikene.eus/events/concierto-cadenza-quartet-6/
END:VEVENT
END:VCALENDAR