BEGIN:VCALENDAR
VERSION:2.0
PRODID:-//eventon.com NONSGML v1.0//EN
CALSCALE:GREGORIAN
METHOD:PUBLISH
BEGIN:VEVENT
UID:69e9c271ddfa5
DTSTAMP:20260423T065545Z
DTSTART:20230515
DTEND:20230516
LOCATION:Musikene
SUMMARY:MASTERCLASS MÚSICA DE CÁMARA
DESCRIPTION:&nbsp; Lunes\,  15 de Mayo Martes\,  16 de Mayo &nbsp; &nbsp; &
 nbsp; &nbsp; &nbsp;\nhttps://musikene.eus/events/ganbera-musika-masterclass
 a-2/?lang=en
URL:https://musikene.eus/events/ganbera-musika-masterclassa-2/?lang=en
END:VEVENT
END:VCALENDAR