BEGIN:VCALENDAR
VERSION:2.0
PRODID:-//eventon.com NONSGML v1.0//EN
CALSCALE:GREGORIAN
METHOD:PUBLISH
BEGIN:VEVENT
UID:69ea7cb7743ca
DTSTAMP:20260423T201031Z
DTSTART:20230330T180000Z
DTEND:20230330T215000Z
LOCATION:DONOSTIA. Iglesia de San Vicente
SUMMARY:ORGANO KONTZERTUA
DESCRIPTION:Musikeneko ikasleak Informazio gehiago hemen  Gipuzkoako Foru
  Diputazioarekin elkarlanean\nhttps://musikene.eus/events/concierto-de-orga
 no/?lang=eu
URL:https://musikene.eus/events/concierto-de-organo/?lang=eu
END:VEVENT
END:VCALENDAR