BEGIN:VCALENDAR
VERSION:2.0
PRODID:-//eventon.com NONSGML v1.0//EN
CALSCALE:GREGORIAN
METHOD:PUBLISH
BEGIN:VEVENT
UID:69e5dd884ceb7
DTSTAMP:20260420T080216Z
DTSTART:20230330T180000Z
DTEND:20230330T215000Z
LOCATION:DONOSTIA. Iglesia de San Vicente
SUMMARY:CONCIERTO DE ÓRGANO
DESCRIPTION:Alumnado de Musikene &nbsp; En colaboración con la Diputación
  Foral de Gipuzkoa\nhttps://musikene.eus/events/concierto-de-organo/
URL:https://musikene.eus/events/concierto-de-organo/
END:VEVENT
END:VCALENDAR