BEGIN:VCALENDAR
VERSION:2.0
PRODID:-//eventon.com NONSGML v1.0//EN
CALSCALE:GREGORIAN
METHOD:PUBLISH
BEGIN:VEVENT
UID:69e4d364b6629
DTSTAMP:20260419T130644Z
DTSTART:20230317T180000Z
DTEND:20230317T225000Z
LOCATION:Musikene
SUMMARY:PREMIERE CORTOMETRAJES
DESCRIPTION:DigiPen y Musikene tienen suscrito un convenio de colaboración
  cuyo objetivo es dar la posibilidad al alumnado de ambas instituciones de 
 complementar su formación trabajando en común en proyectos interdisciplin
 arios. Como resultado de dicha colaboración tendremos la oportunidad de ve
 r en primicia los cortometrajes de animación en los que han[..]\nhttps://m
 usikene.eus/events/premiere-cortometrajes/
URL:https://musikene.eus/events/premiere-cortometrajes/
END:VEVENT
END:VCALENDAR