BEGIN:VCALENDAR
VERSION:2.0
PRODID:-//eventon.com NONSGML v1.0//EN
CALSCALE:GREGORIAN
METHOD:PUBLISH
BEGIN:VEVENT
UID:69e7592817e14
DTSTAMP:20260421T110200Z
DTSTART:20230524T173000Z
DTEND:20230524T215000Z
LOCATION:Musikene
SUMMARY:JAZZEKO TALDE ESPEZIFIKOAK ENTZUNALDIA
DESCRIPTION:Francesc Capella irakaslearen ikaslegoa\nhttps://musikene.eus/e
 vents/audicion-agrupaciones-especificas-de-jazz-6/?lang=eu
URL:https://musikene.eus/events/audicion-agrupaciones-especificas-de-jazz-6/?lang=eu
END:VEVENT
END:VCALENDAR