BEGIN:VCALENDAR
VERSION:2.0
PRODID:-//eventon.com NONSGML v1.0//EN
CALSCALE:GREGORIAN
METHOD:PUBLISH
BEGIN:VEVENT
UID:69e73e60bd8a3
DTSTAMP:20260421T090744Z
DTSTART:20230227T151500Z
DTEND:20230227T225000Z
LOCATION:Musikene
SUMMARY:CHARLA
DESCRIPTION:Ponente: JOHN KENNY\nhttps://musikene.eus/events/charla/?lang=f
 r
URL:https://musikene.eus/events/charla/?lang=fr
END:VEVENT
END:VCALENDAR