BEGIN:VCALENDAR
VERSION:2.0
PRODID:-//eventon.com NONSGML v1.0//EN
CALSCALE:GREGORIAN
METHOD:PUBLISH
BEGIN:VEVENT
UID:69e4eb7448db7
DTSTAMP:20260419T144924Z
DTSTART:20230315T180000Z
DTEND:20230315T225000Z
LOCATION:BILBAO. Sociedad Bilbaina
SUMMARY:KONTZERTUA MAITEMINA HIRUKOTEA
DESCRIPTION:Elena Calvo Antón\,  biola Luna Orts Berrocal\,  klarinetea Da
 niel García Díaz\,  pianoa &nbsp;\nhttps://musikene.eus/events/concierto-
 trio-maitemina/?lang=eu
URL:https://musikene.eus/events/concierto-trio-maitemina/?lang=eu
END:VEVENT
END:VCALENDAR