BEGIN:VCALENDAR
VERSION:2.0
PRODID:-//eventon.com NONSGML v1.0//EN
CALSCALE:GREGORIAN
METHOD:PUBLISH
BEGIN:VEVENT
UID:69e500bc2a428
DTSTAMP:20260419T162012Z
DTSTART:20230315T180000Z
DTEND:20230315T225000Z
LOCATION:BILBAO. Sociedad Bilbaina
SUMMARY:CONCIERTO TRIO MAITEMINA
DESCRIPTION:Elena Calvo Antón\,  viola Luna Orts Berrocal\,  clarinete Dan
 iel García Díaz\,  piano &nbsp;\nhttps://musikene.eus/events/concierto-tr
 io-maitemina/
URL:https://musikene.eus/events/concierto-trio-maitemina/
END:VEVENT
END:VCALENDAR