BEGIN:VCALENDAR
VERSION:2.0
PRODID:-//eventon.com NONSGML v1.0//EN
CALSCALE:GREGORIAN
METHOD:PUBLISH
BEGIN:VEVENT
UID:69e9fb82e2ed3
DTSTAMP:20260423T105914Z
DTSTART:20230605T220000Z
DTEND:20230607T220000Z
LOCATION:Musikene
SUMMARY:MASTERCLASS ACORDEÓN
DESCRIPTION:Stefan Hussong\,  acordeón\nhttps://musikene.eus/events/master
 class-acordeon-3/?lang=fr
URL:https://musikene.eus/events/masterclass-acordeon-3/?lang=fr
END:VEVENT
END:VCALENDAR