BEGIN:VCALENDAR
VERSION:2.0
PRODID:-//eventon.com NONSGML v1.0//EN
CALSCALE:GREGORIAN
METHOD:PUBLISH
BEGIN:VEVENT
UID:69ed2f2ce68e7
DTSTAMP:20260425T211628Z
DTSTART:20230214T183000Z
DTEND:20230214T225000Z
LOCATION:VITORIA-GASTEIZ. Sala VITAL (Dendaraba)
SUMMARY:CONCIERTO QUINTETO COR
DESCRIPTION:Sofía Moya\,  violín Alba Compte\,  violín Claudia Vidal\,  
 viola José Antonio Oliva\,  violonchelo Samuel Arroyo\,  piano\nhttps://mu
 sikene.eus/events/concierto-quinteto-cor/
URL:https://musikene.eus/events/concierto-quinteto-cor/
END:VEVENT
END:VCALENDAR