BEGIN:VCALENDAR
VERSION:2.0
PRODID:-//eventon.com NONSGML v1.0//EN
CALSCALE:GREGORIAN
METHOD:PUBLISH
BEGIN:VEVENT
UID:69ed6b3b82fe6
DTSTAMP:20260426T013243Z
DTSTART:20230401T180000Z
DTEND:20230401T215000Z
LOCATION:SANTANDER. Conservatorio Jesús de Monasterio
SUMMARY:CONCIERTO ENSEMBLE DE METALES
DESCRIPTION:Director: Luis Gimeno\nhttps://musikene.eus/events/concierto-en
 semble-de-metales-3/?lang=en
URL:https://musikene.eus/events/concierto-ensemble-de-metales-3/?lang=en
END:VEVENT
END:VCALENDAR