BEGIN:VCALENDAR
VERSION:2.0
PRODID:-//eventon.com NONSGML v1.0//EN
CALSCALE:GREGORIAN
METHOD:PUBLISH
BEGIN:VEVENT
UID:69e75fa32c602
DTSTAMP:20260421T112939Z
DTSTART:20230127T140000Z
DTEND:20230127T225000Z
LOCATION:
SUMMARY:CHARLA INFORMATIVA MÁSTERES 2023-24
DESCRIPTION:El 27 de enero a las 15:00h abriremos virtualmente nuestras pue
 rtas para que los/las asistentes tengan la oportunidad de conocer nuestras 
 instalaciones y la actividad docente de nivel de Máster que en ellas se re
 aliza. Se dará información detallada sobre la organización\,  inscripci
 n\,  pruebas de acceso\,  y validez de las[..]\nhttps://musikene.eus/event
 s/charla-informativa-masteres-2023-24/?lang=fr
URL:https://musikene.eus/events/charla-informativa-masteres-2023-24/?lang=fr
END:VEVENT
END:VCALENDAR