BEGIN:VCALENDAR
VERSION:2.0
PRODID:-//eventon.com NONSGML v1.0//EN
CALSCALE:GREGORIAN
METHOD:PUBLISH
BEGIN:VEVENT
UID:69e97995761ac
DTSTAMP:20260423T014453Z
DTSTART:20230209T200000Z
DTEND:20230209T225000Z
LOCATION:DONOSTIA. KUTXA KULTUR KLUBA. Tabakalera 1ª planta
SUMMARY:CONCIERTO EIRA & BAND
DESCRIPTION:Voz: Eira Batería: Edi Carretero Bajo: Jorge Luengo Piano y te
 clado: Jorge Hidalgo &nbsp; Artistas invitados: Guitarra: Víctor Villa Sax
 o: Alex Haro &nbsp; Musikene presenta a la donostiarra Eider Elorza\,  Eira
 . Cantante\,  compositora y actriz. Colaboradora activa con Revolutionary B
 rothers (álbum ‘Revelation’ -2021). y formada en diferentes técnicas 
 con profesoras[..]\nhttps://musikene.eus/events/concierto-jazz-6/
URL:https://musikene.eus/events/concierto-jazz-6/
END:VEVENT
END:VCALENDAR