BEGIN:VCALENDAR
VERSION:2.0
PRODID:-//eventon.com NONSGML v1.0//EN
CALSCALE:GREGORIAN
METHOD:PUBLISH
BEGIN:VEVENT
UID:69e73c96c8173
DTSTAMP:20260421T090006Z
DTSTART:20230206T143000Z
DTEND:20230206T225000Z
LOCATION:
SUMMARY:Taller pedagogía e Improvisación
DESCRIPTION:Javier Juanco\,  profesor Fecha: lunes 6 de febrero 2023 Horari
 o:15:30-17:45 y 18:15-20:30\nhttps://musikene.eus/events/taller-pedagogia-e
 -improvisacion/
URL:https://musikene.eus/events/taller-pedagogia-e-improvisacion/
END:VEVENT
END:VCALENDAR