BEGIN:VCALENDAR
VERSION:2.0
PRODID:-//eventon.com NONSGML v1.0//EN
CALSCALE:GREGORIAN
METHOD:PUBLISH
BEGIN:VEVENT
UID:69e6343228892
DTSTAMP:20260420T141202Z
DTSTART:20221221T163000Z
DTEND:20221221T225000Z
LOCATION:Musikene
SUMMARY:KORUA ENTZUNALDIA
DESCRIPTION:Enrique Azurza irakaslearen ikaslegoa\nhttps://musikene.eus/eve
 nts/audicion-coro-2/?lang=eu
URL:https://musikene.eus/events/audicion-coro-2/?lang=eu
END:VEVENT
END:VCALENDAR