BEGIN:VCALENDAR
VERSION:2.0
PRODID:-//eventon.com NONSGML v1.0//EN
CALSCALE:GREGORIAN
METHOD:PUBLISH
BEGIN:VEVENT
UID:69e543cd4cff6
DTSTAMP:20260419T210621Z
DTSTART:20221201T183000Z
DTEND:20221201T225000Z
LOCATION:
SUMMARY:UKAN KONTZERTUA
DESCRIPTION:Programa completo aquí \nhttps://musikene.eus/events/ukan-kon
 tzertua-2/?lang=eu
URL:https://musikene.eus/events/ukan-kontzertua-2/?lang=eu
END:VEVENT
END:VCALENDAR