BEGIN:VCALENDAR
VERSION:2.0
PRODID:-//eventon.com NONSGML v1.0//EN
CALSCALE:GREGORIAN
METHOD:PUBLISH
BEGIN:VEVENT
UID:69e55e59abc73
DTSTAMP:20260419T225937Z
DTSTART:20221201T183000Z
DTEND:20221201T225000Z
LOCATION:Musikene
SUMMARY:CONCIERTO UKAN
DESCRIPTION:Programa completo aquí \nhttps://musikene.eus/events/conciert
 o-ukan-2/?lang=fr
URL:https://musikene.eus/events/concierto-ukan-2/?lang=fr
END:VEVENT
END:VCALENDAR