BEGIN:VCALENDAR
VERSION:2.0
PRODID:-//eventon.com NONSGML v1.0//EN
CALSCALE:GREGORIAN
METHOD:PUBLISH
BEGIN:VEVENT
UID:69ea71902c482
DTSTAMP:20260423T192256Z
DTSTART:20221128T150000Z
DTEND:20221128T225000Z
LOCATION:Musikene
SUMMARY:AUDICIÓN TROMPETA
DESCRIPTION:Alumnado de los profesores Luis González y José Gallego\nhttp
 s://musikene.eus/events/audicion-trompeta-14/
URL:https://musikene.eus/events/audicion-trompeta-14/
END:VEVENT
END:VCALENDAR