BEGIN:VCALENDAR
VERSION:2.0
PRODID:-//eventon.com NONSGML v1.0//EN
CALSCALE:GREGORIAN
METHOD:PUBLISH
BEGIN:VEVENT
UID:69e69c2479e48
DTSTAMP:20260420T213532Z
DTSTART:20221201T183000Z
DTEND:20221201T225000Z
LOCATION:DONOSTIA. Koldo Mitxelena kulturunea
SUMMARY:TRONBOI KONTZERTUA
DESCRIPTION:POETIKA ZIKLOA Bittor Giral\,  tronboia Bernardo Atxaga\,  poet
 a &nbsp; Gipuzkoako Foru Aldundiak antolatua\nhttps://musikene.eus/events/c
 oncierto-trombon/?lang=eu
URL:https://musikene.eus/events/concierto-trombon/?lang=eu
END:VEVENT
END:VCALENDAR