BEGIN:VCALENDAR
VERSION:2.0
PRODID:-//eventon.com NONSGML v1.0//EN
CALSCALE:GREGORIAN
METHOD:PUBLISH
BEGIN:VEVENT
UID:69e885077165f
DTSTAMP:20260422T082127Z
DTSTART:20230220
DTEND:20230221
LOCATION:
SUMMARY:MASTERCLASS JAZZ BAXU ELEKTRIKOA
DESCRIPTION:Irakaslea: JAVIER MALOSETTI\nhttps://musikene.eus/events/master
 class-jazz-bajo-electrico/?lang=eu
URL:https://musikene.eus/events/masterclass-jazz-bajo-electrico/?lang=eu
END:VEVENT
END:VCALENDAR