BEGIN:VCALENDAR
VERSION:2.0
PRODID:-//eventon.com NONSGML v1.0//EN
CALSCALE:GREGORIAN
METHOD:PUBLISH
BEGIN:VEVENT
UID:69e8a026df64a
DTSTAMP:20260422T101710Z
DTSTART:20230220
DTEND:20230221
LOCATION:Musikene
SUMMARY:MASTERCLASS JAZZ BAJO ELÉCTRICO
DESCRIPTION:Profesor: JAVIER MALOSETTI\nhttps://musikene.eus/events/masterc
 lass-jazz-bajo-electrico/
URL:https://musikene.eus/events/masterclass-jazz-bajo-electrico/
END:VEVENT
END:VCALENDAR