BEGIN:VCALENDAR
VERSION:2.0
PRODID:-//eventon.com NONSGML v1.0//EN
CALSCALE:GREGORIAN
METHOD:PUBLISH
BEGIN:VEVENT
UID:69ecba2a897be
DTSTAMP:20260425T125714Z
DTSTART:20221112T170000Z
DTEND:20221112T225000Z
LOCATION:Musikene
SUMMARY:MESA REDONDA
DESCRIPTION:En torno a Hosokawa &nbsp; TOSHIO HOSOKAWA\,  compositor TITO C
 ECCHERINI\,  director &nbsp; Moderador: RAMÓN LAZKANO\,  coordinador de Re
 laciones Internacionales de Musikene\nhttps://musikene.eus/events/mesa-redo
 nda-5/?lang=en
URL:https://musikene.eus/events/mesa-redonda-5/?lang=en
END:VEVENT
END:VCALENDAR