BEGIN:VCALENDAR
VERSION:2.0
PRODID:-//eventon.com NONSGML v1.0//EN
CALSCALE:GREGORIAN
METHOD:PUBLISH
BEGIN:VEVENT
UID:69ed1da62dae4
DTSTAMP:20260425T200142Z
DTSTART:20230331T130000Z
DTEND:20230331T215000Z
LOCATION:Musikene
SUMMARY:AUDICIÓN VIOLA
DESCRIPTION:Alumnado de los profesores Natalia Tchitch e Irek Jagla\nhttps:
 //musikene.eus/events/audicion-viola-11/?lang=fr
URL:https://musikene.eus/events/audicion-viola-11/?lang=fr
END:VEVENT
END:VCALENDAR